BEGIN:VCALENDAR
VERSION:2.0
PRODID:-//Cloud 9 Academy - ECPv6.15.20//NONSGML v1.0//EN
CALSCALE:GREGORIAN
METHOD:PUBLISH
X-ORIGINAL-URL:https://cloud9academy.es
X-WR-CALDESC:Eventos para Cloud 9 Academy
REFRESH-INTERVAL;VALUE=DURATION:PT1H
X-Robots-Tag:noindex
X-PUBLISHED-TTL:PT1H
BEGIN:VTIMEZONE
TZID:UTC
BEGIN:STANDARD
TZOFFSETFROM:+0000
TZOFFSETTO:+0000
TZNAME:UTC
DTSTART:20250101T000000
END:STANDARD
END:VTIMEZONE
BEGIN:VEVENT
DTSTART;TZID=UTC:20260511T171500
DTEND;TZID=UTC:20260511T191500
DTSTAMP:20260421T084408
CREATED:20260406T190507Z
LAST-MODIFIED:20260407T220225Z
UID:2525-1778519700-1778526900@cloud9academy.es
SUMMARY:IB Biology HL: only HL content
DESCRIPTION:El contenido de HL en IB Biology introduce mayor profundidad conceptual y mayor exigencia en la aplicación de conocimientos. \nDurante esta clase trabajaremos los siguientes temas: \nHL Topics \n\nNucleic acids & gene expression.\nMetabolism\, photosynthesis & respiration.\nPlant biology.\nFurther genetics & evolution.\nAdvanced animal physiology.\n\nLas preguntas de HL combinan dificultad conceptual con aplicación en contexto\, tanto en formato tipo test como en preguntas de desarrollo. Para trabajar esto\, emplearemos preguntas oficiales de examen (Paper 1 & Paper 2 HL)\, centrándonos en: \n\nComprensión profunda de los procesos biológicos.\nAplicación de conceptos a situaciones nuevas.\nDesarrollo de respuestas completas y bien estructuradas.\n\nY si tienes dudas\, ¡tráetelas! Cuéntanoslo antes de la clase si deseas practicar algún ejercicio en concreto\, o tráete directamente tus ejercicios y consulta todas tus dudas. \n  \nPuedes apuntarte aquí: https://forms.gle/TVAE432MGfNBLJUa9
URL:https://cloud9academy.es/event/ib-biology-hl-only-hl-content/
LOCATION:Cloud 9 Academy\, C/ Navarrete 13\, Madrid\, Madrid\, 28050\, España
CATEGORIES:IB 2026 Biology SL/HL,IB 2026 Final Revision
ATTACH;FMTTYPE=image/jpeg:https://cloud9academy.es/wp-content/uploads/2024/04/3628533-scaled.jpg
END:VEVENT
BEGIN:VEVENT
DTSTART;TZID=UTC:20260511T171500
DTEND;TZID=UTC:20260511T191500
DTSTAMP:20260421T084408
CREATED:20260407T162344Z
LAST-MODIFIED:20260408T144319Z
UID:2634-1778519700-1778526900@cloud9academy.es
SUMMARY:IB Economics HL · Theory of the firm & Development Economics
DESCRIPTION:En esta sesión\, prepararemos el temario específico de HL Economics\, con énfasis en las secciones más difíciles de Microeconomics (Theory of the Firm) y Macroeconomics (Development Economics). Theory of the firm incluye los diagramas más complicados de la syllabus de Economics IB y siempre está presente en exámenes de Paper 1 y en Paper 3\, mientras que Development Economics plantea dificultades especialmente porque se combinan muchas de las secciones anteriores de Microeconomics y Macroeconomics en un contexto diferente. \nDurante esta clase trabajaremos los siguientes temas: \nTheory of the firm diagram & calculations \n\nMR\, AR\, MC and AC curves.\nConditions and efficiencies.\nShutdown points.\nRevenue\, cost and profit calculations.\n\nPerfect competition & Monopoly \n\nCharacteristics of perfect competition.\nLong-run and short-run diagrams.\nCharacteristics of monopoly.\nBarriers to entry.\nNatural monopolies.\nCosts and benefits of perfect competition and monopoly.\n\nOligopoly \n\nCharacteristics of oligopoly.\nConcentration ratios.\nReasons for price stability.\nCollusion.\nGame theory and relevant diagrams.\nPrice and non-price competition.\n\nGovernment intervention \n\nMarket power and market failure.\nLegislation and regulation.\nGovernment ownership.\nFines.\n\nMeasuring development \n\nIndicators of development\nComposite indicators\nLimitations of indicators of economic development\n\nBarriers to growth and development \n\nPoverty cycle and relevant diagrams\nPrimary product dependence and relevant diagrams\nEconomic barriers\nPolitical and social barriers\n\nGrowth and development strategies \n\nTrade strategies\nMarket-based strategies\nInterventionist strategies\nForeign aid\nForeign direct investment\nEvaluation of growth and development strategies\n\nPara ello\, emplearemos preguntas oficiales de examen (Paper 1 & Paper 3)\, a través de las cuales practicaremos todos los tipos de habilidades\, haciendo hincapié en las más difíciles: usar el vocabulario económico adecuadamente —tanto en los ensayos de Paper 1 como en las preguntas breves de Paper 3—\, incorporar diagramas\, realizar cálculos\, hacer referencia a ‘real word examples’ y desarrollar argumentos económicos con los que obtener la máxima puntuación. \nY si tienes dudas\, ¡tráetelas! Cuéntanoslo antes de la clase si deseas practicar algún ejercicio en concreto\, o tráete directamente tus ejercicios y consulta todas tus dudas. \n  \nPuedes apuntarte aquí: https://forms.gle/TVAE432MGfNBLJUa9
URL:https://cloud9academy.es/event/ib-economics-sl-hl-%c2%b7-theory-of-the-firm-development-economics/
LOCATION:Cloud 9 Academy\, C/ Navarrete 13\, Madrid\, Madrid\, 28050\, España
CATEGORIES:IB 2026 Final Revision,IB Economics SL/HL
ATTACH;FMTTYPE=image/jpeg:https://cloud9academy.es/wp-content/uploads/2022/05/economics-scaled.jpg
END:VEVENT
BEGIN:VEVENT
DTSTART;TZID=UTC:20260512T171500
DTEND;TZID=UTC:20260512T191500
DTSTAMP:20260421T084408
CREATED:20260406T182057Z
LAST-MODIFIED:20260407T161602Z
UID:2475-1778606100-1778613300@cloud9academy.es
SUMMARY:IB Mathematics AA HL ·  Modelling & Synoptic Questions
DESCRIPTION:En esta sesión final trabajaremos preguntas de tipo ‘synoptic’\, que integran múltiples partes del temario de IB Mathematics Analysis & Approaches (HL)\, con un énfasis especial en las preguntas de modelling\, que son algunas de las más exigentes y determinantes del examen. \nNos centraremos especialmente en aquellas preguntas que combinan varios temas\, especialmente Calculus (tanto Differentiation como Integration\, incluyendo Differential Equations)\, Trigonometry y Functions\, y que requieren no solo dominio técnico\, sino también capacidad de interpretación\, planificación y estructuración de la solución. \nEstas preguntas suelen aparecer en la ‘Section B’ de los exámenes (Paper 1 y Paper 2)\, y destacan por su complejidad\, tanto a nivel conceptual como en la ejecución del ‘working out’. \nComo en todas las clases de Maths AA HL\, dedicaremos parte de la sesión a trabajar estas preguntas largas de ‘Section B’\, desarrollando estrategias para abordarlas de forma eficiente y maximizar la puntuación. \nY si tienes dudas\, ¡tráetelas! Cuéntanoslo antes de la clase si deseas practicar algún ejercicio en concreto\, o tráete directamente tus ejercicios y consulta todas tus dudas. \nPuedes apuntarte aquí: https://forms.gle/hC1RDzLrH1mVvgNn8
URL:https://cloud9academy.es/event/ib-mathematics-aa-hl-%c2%b7-modelling-synoptic-questions/
LOCATION:Cloud 9 Academy\, C/ Navarrete 13\, Madrid\, Madrid\, 28050\, España
CATEGORIES:IB 2026 Final Revision,IB 2026 Mathematics AA HL / Matemáticas AE NS
ATTACH;FMTTYPE=image/jpeg:https://cloud9academy.es/wp-content/uploads/2022/05/mathematics.jpg
END:VEVENT
BEGIN:VEVENT
DTSTART;TZID=UTC:20260512T171500
DTEND;TZID=UTC:20260512T191500
DTSTAMP:20260421T084408
CREATED:20260406T183857Z
LAST-MODIFIED:20260407T160736Z
UID:2499-1778606100-1778613300@cloud9academy.es
SUMMARY:IB Mathematics AA SL · Functions & Modelling
DESCRIPTION:Esta sesión está diseñada como un repaso final de IB Mathematics Analysis & Approaches (SL)\, integrando todos los temas del curso y trabajando especialmente las preguntas de modelling\, que son algunas de las más exigentes del examen. \nDurante esta clase trabajaremos los siguientes temas: \nModelling Questions \n\nFunctions & Graphs\nSequences & Series\nExponentials & Logarithmic Models\nTrigonometric Models\nModelling with Functions\nModelling involving Calculus\n\nLas preguntas de modelling requieren combinar múltiples áreas del temario y aplicar los conceptos de forma flexible\, por lo que representan algunas de las preguntas más difíciles del examen. \nPara ello\, emplearemos preguntas oficiales de examen (Paper 1 & Paper 2)\, centrándonos en la interpretación del contexto\, la selección del modelo adecuado y la presentación clara y completa del ‘working out’. \nY si tienes dudas\, ¡tráetelas! Cuéntanoslo antes de la clase si deseas practicar algún ejercicio en concreto\, o tráete directamente tus ejercicios y consulta todas tus dudas. \nPuedes apuntarte aquí: https://forms.gle/TVAE432MGfNBLJUa9
URL:https://cloud9academy.es/event/ib-mathematics-aa-sl-%c2%b7-functions-modelling/
LOCATION:Cloud 9 Academy\, C/ Navarrete 13\, Madrid\, Madrid\, 28050\, España
CATEGORIES:IB 2026 Final Revision,Ib 2026 Mathematics AA SL / Matemáticas AE NM
ATTACH;FMTTYPE=image/jpeg:https://cloud9academy.es/wp-content/uploads/2022/05/mathematics.jpg
END:VEVENT
BEGIN:VEVENT
DTSTART;TZID=UTC:20260512T191500
DTEND;TZID=UTC:20260512T211500
DTSTAMP:20260421T084408
CREATED:20260406T185445Z
LAST-MODIFIED:20260407T221736Z
UID:2511-1778613300-1778620500@cloud9academy.es
SUMMARY:IB Spanish SL/HL · Ensayo Comparativo Literario II
DESCRIPTION:Los ensayos o análisis comparativos componen el Paper 2 de Español Lengua y Literatura A\, y son el apartado de la asignatura que evalúa el conocimiento de literatura. En esta segunda sesión\, sólo para alumnos de HL\, haremos hincapié en estructuras y técnicas de análisis más complejas. \nDurante esta clase\, emplearemos preguntas oficiales de Paper 2 para trabajar la estructura de un ensayo comparativo y dar pautas y herramientas a los alumnos para que puedan profundizar en su estudio y aspirar a la nota máxima. \nY si tienes dudas\, ¡tráetelas! Cuéntanoslo antes de la clase si deseas practicar algún ejercicio en concreto\, o tráete directamente tus ejercicios y consulta todas tus dudas. \n  \nPuedes apuntarte aquí: https://forms.gle/TVAE432MGfNBLJUa9
URL:https://cloud9academy.es/event/ib-spanish-sl-hl-%c2%b7-ensayo-comparativo-literario-ii/
LOCATION:Cloud 9 Academy\, C/ Navarrete 13\, Madrid\, Madrid\, 28050\, España
CATEGORIES:IB 2026 Final Revision,IB 2026 Spanish SL/HL
ATTACH;FMTTYPE=image/jpeg:https://cloud9academy.es/wp-content/uploads/2022/05/english-literature-scaled.jpg
END:VEVENT
BEGIN:VEVENT
DTSTART;TZID=UTC:20260512T191500
DTEND;TZID=UTC:20260512T211500
DTSTAMP:20260421T084408
CREATED:20260407T162436Z
LAST-MODIFIED:20260407T172457Z
UID:2636-1778613300-1778620500@cloud9academy.es
SUMMARY:IB Economics HL · Paper 3 Calculations & Diagrams
DESCRIPTION:En esta sesión\, preparamos el Paper 3 de Economics\, un examen específico para los alumnos de HL y enfocado casi por completo en cálculos y diagramas. Utilizaremos la sesión para repasar los temas más frecuentes de este examen (especialmente Theory of the Firm y Protectionism) y también para repasar los tipos de preguntas que aparecen en este examen\, tan diferente de Paper 1 y Paper 2. \nSin duda\, Paper 3 es el más complejo de los exámenes\, y a menudo los alumnos llegan al final de curso sin haberlo practicado apenas. \nSi bien Paper 3 tiene un peso menor en la nota que el resto de los exámenes\, lo cierto es que es imprescindible hacer un buen examen para optar a las calificaciones más altas (6 ó 7). \nSi quieres aprender a enfocar las preguntas de investigación y ganar confianza en ti mismo\, ¡ésta es tu clase! Tenemos una amplia selección de ejercicios y te daremos todas las estrategias para enfrentarte a Paper 3. \n  \nPuedes apuntarte aquí: https://forms.gle/TVAE432MGfNBLJUa9
URL:https://cloud9academy.es/event/ib-economics-hl-%c2%b7-paper-3-calculations-diagrams/
LOCATION:Cloud 9 Academy\, C/ Navarrete 13\, Madrid\, Madrid\, 28050\, España
CATEGORIES:IB 2026 Final Revision,IB Economics SL/HL
ATTACH;FMTTYPE=image/jpeg:https://cloud9academy.es/wp-content/uploads/2022/05/economics-scaled.jpg
END:VEVENT
BEGIN:VEVENT
DTSTART;TZID=UTC:20260513T171500
DTEND;TZID=UTC:20260513T191500
DTSTAMP:20260421T084408
CREATED:20260407T151039Z
LAST-MODIFIED:20260407T222324Z
UID:2560-1778692500-1778699700@cloud9academy.es
SUMMARY:IB Mathematics AI SL · Calculus & Modelling mix
DESCRIPTION:Calculus\, que incluye tanto Differentiation como Integration\, es la sección más difícil de la specification de Mathematics Applications & Interpretations SL. En la última sesión de este programa\, practicaremos las preguntas más difíciles del examen: las que combinan Calculus\, tanto Differentiation como Integration\, con Modelling\, planteando problemas que hay que modelar antes de resolver. \nDurante esta clase trabajaremos los siguientes temas: \nModelling \n\nStrategies for modelling\nModelling with functions\nModelling with exponentials\n\nModelling with Calculus \n\nOptimisation\nRates of change\nArea under a curve\n\nPara ello\, emplearemos preguntas oficiales de examen (Paper 1 & Paper 2)\, a través de las cuales practicaremos todos los tipos de habilidades\, haciendo hincapié en las más difíciles: realizar los cálculos\, utilizar gráficos\, aplicar las fórmulas\, manejar la calculadora y estructurar y presentar el ‘working out’ para obtener la máxima puntuación. \nY si tienes dudas\, ¡tráetelas! Cuéntanoslo antes de la clase si deseas practicar algún ejercicio en concreto\, o tráete directamente tus ejercicios y consulta todas tus dudas. \n  \nPuedes apuntarte aquí: https://forms.gle/TVAE432MGfNBLJUa9
URL:https://cloud9academy.es/event/ib-mathematics-ai-sl-%c2%b7-calculus-modelling-mix/
LOCATION:Cloud 9 Academy\, C/ Navarrete 13\, Madrid\, Madrid\, 28050\, España
CATEGORIES:IB 2026 Final Revision,IB 2026 Mathematics AI SL
ATTACH;FMTTYPE=image/jpeg:https://cloud9academy.es/wp-content/uploads/2022/05/mathematics.jpg
END:VEVENT
BEGIN:VEVENT
DTSTART;TZID=UTC:20260516T100000
DTEND;TZID=UTC:20260516T120000
DTSTAMP:20260421T084408
CREATED:20260406T182149Z
LAST-MODIFIED:20260407T102006Z
UID:2477-1778925600-1778932800@cloud9academy.es
SUMMARY:IB Mathematics AA HL ·  Paper 3 Style Questions I
DESCRIPTION:Ésta es la primera de nuestras sesiones dedicadas a preparar Paper 3: es el último examen\, dura una hora y consiste en dos preguntas largas. Se trata de preguntas de investigación\, que combinan varios temas y exigen razonamientos mucho más profundos que Paper 1 y Paper 2. \nSin duda\, Paper 3 es el más complejo de los exámenes\, y a menudo los alumnos llegan al final de curso sin haberlo practicado apenas. \nSi bien Paper 3 tiene un peso menor en la nota que el resto de los exámenes\, lo cierto es que es imprescindible hacer un buen examen para optar a las calificaciones más altas (6 ó 7). \nSi quieres aprender a enfocar las preguntas de investigación y ganar confianza en ti mismo\, ¡ésta es tu clase! Tenemos una amplia selección de ejercicios y te daremos todas las estrategias para enfrentarte a Paper 3. \n  \nPuedes apuntarte aquí: https://forms.gle/TVAE432MGfNBLJUa9
URL:https://cloud9academy.es/event/ib-mathematics-aa-hl-%c2%b7-paper-3-style-questions-i/
LOCATION:Cloud 9 Academy\, C/ Navarrete 13\, Madrid\, Madrid\, 28050\, España
CATEGORIES:IB 2026 Final Revision,IB 2026 Mathematics AA HL / Matemáticas AE NS
ATTACH;FMTTYPE=image/jpeg:https://cloud9academy.es/wp-content/uploads/2022/05/mathematics.jpg
END:VEVENT
BEGIN:VEVENT
DTSTART;TZID=UTC:20260516T120000
DTEND;TZID=UTC:20260516T140000
DTSTAMP:20260421T084408
CREATED:20260407T160648Z
LAST-MODIFIED:20260407T192850Z
UID:2620-1778932800-1778940000@cloud9academy.es
SUMMARY:IB Chemistry SL/HL · Paper 2 extended Response & Synoptic Questions
DESCRIPTION:Esta sesión está diseñada como preparación final para IB Chemistry\, centrándose en las preguntas más exigentes del examen. \nDurante esta clase trabajaremos los siguientes temas: \nExam Technique \n\nPaper 2 extended response questions\nSynoptic questions combining multiple topics\nStrategies for longer writing questions\nUsing mark scheme language\n\nEstas preguntas son algunas de las más difíciles del examen\, ya que requieren integrar distintos bloques del temario y desarrollar respuestas completas y bien estructuradas. \nPara ello\, emplearemos preguntas oficiales de examen (Paper 2)\, centrándonos en la organización de ideas\, la precisión científica y la maximización de la puntuación. \nY si tienes dudas\, ¡tráetelas! Cuéntanoslo antes de la clase si deseas practicar algún ejercicio en concreto\, o tráete directamente tus ejercicios y consulta todas tus dudas. \nPuedes apuntarte aquí: https://forms.gle/TVAE432MGfNBLJUa9
URL:https://cloud9academy.es/event/ib-chemistry-sl-hl-%c2%b7-paper-2-extended-response-synoptic-questions/
LOCATION:Cloud 9 Academy\, C/ Navarrete 13\, Madrid\, Madrid\, 28050\, España
CATEGORIES:IB 2026 Chemistry SL/HL,IB 2026 Final Revision
ATTACH;FMTTYPE=image/jpeg:https://cloud9academy.es/wp-content/uploads/2026/04/descarga.jpg
END:VEVENT
BEGIN:VEVENT
DTSTART;TZID=UTC:20260518T171500
DTEND;TZID=UTC:20260518T191500
DTSTAMP:20260421T084408
CREATED:20260406T182238Z
LAST-MODIFIED:20260407T101939Z
UID:2479-1779124500-1779131700@cloud9academy.es
SUMMARY:IB Mathematics AA HL ·  Paper 3 Style Questions II
DESCRIPTION:Ésta es la segunda de nuestras sesiones dedicadas a preparar Paper 3: es el último examen\, dura una hora y consiste en dos preguntas largas. Se trata de preguntas de investigación\, que combinan varios temas y exigen razonamientos mucho más profundos que Paper 1 y Paper 2. \nSin duda\, Paper 3 es el más complejo de los exámenes\, y a menudo los alumnos llegan al final de curso sin haberlo practicado apenas. \nSi bien Paper 3 tiene un peso menor en la nota que el resto de los exámenes\, lo cierto es que es imprescindible hacer un buen examen para optar a las calificaciones más altas (6 ó 7). \nSi quieres aprender a enfocar las preguntas de investigación y ganar confianza en ti mismo\, ¡ésta es tu clase! Tenemos una amplia selección de ejercicios y te daremos todas las estrategias para enfrentarte a Paper 3. \n  \nPuedes apuntarte aquí: https://forms.gle/TVAE432MGfNBLJUa9
URL:https://cloud9academy.es/event/ib-mathematics-aa-hl-%c2%b7-paper-3-style-questions-ii/
LOCATION:Cloud 9 Academy\, C/ Navarrete 13\, Madrid\, Madrid\, 28050\, España
CATEGORIES:IB 2026 Final Revision,IB 2026 Mathematics AA HL / Matemáticas AE NS
ATTACH;FMTTYPE=image/jpeg:https://cloud9academy.es/wp-content/uploads/2022/05/mathematics.jpg
END:VEVENT
END:VCALENDAR