BEGIN:VCALENDAR
VERSION:2.0
PRODID:-//Cloud 9 Academy - ECPv6.15.20//NONSGML v1.0//EN
CALSCALE:GREGORIAN
METHOD:PUBLISH
X-ORIGINAL-URL:https://cloud9academy.es
X-WR-CALDESC:Eventos para Cloud 9 Academy
REFRESH-INTERVAL;VALUE=DURATION:PT1H
X-Robots-Tag:noindex
X-PUBLISHED-TTL:PT1H
BEGIN:VTIMEZONE
TZID:UTC
BEGIN:STANDARD
TZOFFSETFROM:+0000
TZOFFSETTO:+0000
TZNAME:UTC
DTSTART:20250101T000000
END:STANDARD
END:VTIMEZONE
BEGIN:VEVENT
DTSTART;TZID=UTC:20260419T100000
DTEND;TZID=UTC:20260419T120000
DTSTAMP:20260421T102536
CREATED:20260407T154438Z
LAST-MODIFIED:20260407T175443Z
UID:2575-1776592800-1776600000@cloud9academy.es
SUMMARY:IB Physics SL · Mechanics
DESCRIPTION:Mechanics es uno de los bloques fundamentales de IB Physics (SL)\, y constituye la base sobre la que se construyen muchos otros temas del curso. En esta sesión trabajaremos los aspectos clave del movimiento\, las fuerzas y la energía. \nDurante esta clase trabajaremos los siguientes temas: \n\nKinematics (SUVAT\, motion graphs\, projectiles)\nForces & Newton’s Laws (free-body diagrams\, circular motion\, Hooke’s Law)\nMomentum & Collisions\nWork\, Energy & Power (incluyendo Sankey diagrams)\n\nPara ello\, emplearemos preguntas oficiales de examen (Paper 1 & Paper 2)\, centrándonos en las habilidades más importantes: resolución de problemas numéricos\, uso eficiente del data booklet y análisis físico de las situaciones planteadas. \nY si tienes dudas\, ¡tráetelas! Cuéntanoslo antes de la clase si deseas practicar algún ejercicio en concreto\, o tráete directamente tus ejercicios y consulta todas tus dudas. \nPuedes apuntarte aquí: https://forms.gle/TVAE432MGfNBLJUa9
URL:https://cloud9academy.es/event/ib-physics-sl-%c2%b7-mechanics/
LOCATION:Cloud 9 Academy\, C/ Navarrete 13\, Madrid\, Madrid\, 28050\, España
CATEGORIES:IB 2026 Final Revision,IB 2026 Physics SL/HL
ATTACH;FMTTYPE=image/jpeg:https://cloud9academy.es/wp-content/uploads/2022/05/physics-1-scaled.jpg
END:VEVENT
BEGIN:VEVENT
DTSTART;TZID=UTC:20260419T100000
DTEND;TZID=UTC:20260419T120000
DTSTAMP:20260421T102536
CREATED:20260407T154846Z
LAST-MODIFIED:20260407T180109Z
UID:2581-1776592800-1776600000@cloud9academy.es
SUMMARY:IB Physics HL · Further Mechanics
DESCRIPTION:Further Mechanics amplía el contenido de Mechanics en IB Physics (HL)\, introduciendo conceptos más avanzados que requieren mayor nivel de abstracción y modelización. \nDurante esta clase trabajaremos los siguientes temas: \n\nRigid body mechanics (torque\, angular motion\, equilibrium)\nRotational dynamics (moment of inertia\, angular momentum)\nSpecial relativity (time dilation\, length contraction\, reference frames)\nRepaso de Mechanics (SL) aplicado a problemas más complejos\n\nPara ello\, emplearemos preguntas oficiales de examen (Paper 1\, Paper 2 y Paper 3)\, trabajando especialmente las habilidades más exigentes: resolución de problemas multi-etapa\, interpretación física y estructuración del razonamiento. \nY si tienes dudas\, ¡tráetelas! Cuéntanoslo antes de la clase si deseas practicar algún ejercicio en concreto\, o tráete directamente tus ejercicios y consulta todas tus dudas. \nPuedes apuntarte aquí: https://forms.gle/TVAE432MGfNBLJUa9
URL:https://cloud9academy.es/event/ib-physics-hl-%c2%b7-further-mechanics/
LOCATION:Cloud 9 Academy\, C/ Navarrete 13\, Madrid\, Madrid\, 28050\, España
CATEGORIES:IB 2026 Final Revision,IB 2026 Physics SL/HL
ATTACH;FMTTYPE=image/jpeg:https://cloud9academy.es/wp-content/uploads/2022/05/physics-1-scaled.jpg
END:VEVENT
END:VCALENDAR