BEGIN:VCALENDAR
VERSION:2.0
PRODID:-//Cloud 9 Academy - ECPv6.15.20//NONSGML v1.0//EN
CALSCALE:GREGORIAN
METHOD:PUBLISH
X-WR-CALNAME:Cloud 9 Academy
X-ORIGINAL-URL:https://cloud9academy.es
X-WR-CALDESC:Eventos para Cloud 9 Academy
REFRESH-INTERVAL;VALUE=DURATION:PT1H
X-Robots-Tag:noindex
X-PUBLISHED-TTL:PT1H
BEGIN:VTIMEZONE
TZID:UTC
BEGIN:STANDARD
TZOFFSETFROM:+0000
TZOFFSETTO:+0000
TZNAME:UTC
DTSTART:20250101T000000
END:STANDARD
END:VTIMEZONE
BEGIN:VEVENT
DTSTART;TZID=UTC:20260509T100000
DTEND;TZID=UTC:20260509T120000
DTSTAMP:20260421T101438
CREATED:20260406T190326Z
LAST-MODIFIED:20260407T215829Z
UID:2521-1778320800-1778328000@cloud9academy.es
SUMMARY:IB Biology SL/HL: Paper 1 Preparation
DESCRIPTION:Paper 1 en IB Biology evalúa de forma muy directa el conocimiento conceptual a través de preguntas tipo test (multiple choice) en eo Paper 1A y mediante preguntas cortas y directas\, asociadas con datos\, en el Paper 1B. En ambos casos\, la precisión conceptual y la rapidez son clave. \nDurante esta clase trabajaremos los siguientes temas: \nCore SL Topics \n\nCell Biology\nMolecular Biology\nGenetics\nEcology\nHuman Physiology\n\nPara ello\, emplearemos preguntas oficiales de examen (Paper 1A & 1B)\, centrándonos en: \n\nIdentificación de conceptos clave\nEvitar errores típicos de distractores\nGestión del tiempo\n\nY si tienes dudas\, ¡tráetelas! Cuéntanoslo antes de la clase si deseas practicar algún ejercicio en concreto\, o tráete directamente tus ejercicios y consulta todas tus dudas. \nPuedes apuntarte aquí: https://forms.gle/TVAE432MGfNBLJUa9
URL:https://cloud9academy.es/event/ib-biology-sl-hl-paper-1-preparation/
LOCATION:Cloud 9 Academy\, C/ Navarrete 13\, Madrid\, Madrid\, 28050\, España
CATEGORIES:IB 2026 Biology SL/HL,IB 2026 Final Revision
ATTACH;FMTTYPE=image/jpeg:https://cloud9academy.es/wp-content/uploads/2024/04/3628533-scaled.jpg
END:VEVENT
BEGIN:VEVENT
DTSTART;TZID=UTC:20260509T120000
DTEND;TZID=UTC:20260509T140000
DTSTAMP:20260421T101438
CREATED:20260407T160505Z
LAST-MODIFIED:20260407T191615Z
UID:2615-1778328000-1778335200@cloud9academy.es
SUMMARY:IB Chemistry HL · Redox & Electrochemistry
DESCRIPTION:Redox & Electrochemistry es uno de los bloques más técnicos de IB Chemistry (HL)\, combinando conceptos teóricos con cálculos y aplicaciones. \nDurante esta clase trabajaremos los siguientes temas: \n\nOxidation & reduction\nElectrochemical cells\nStandard electrode potentials\nElectrolysis\n\nPara ello\, emplearemos preguntas oficiales de examen (Paper 1 & Paper 2)\, trabajando especialmente la aplicación de conceptos\, el uso correcto de ecuaciones y la interpretación de sistemas electroquímicos. \nY si tienes dudas\, ¡tráetelas! Cuéntanoslo antes de la clase si deseas practicar algún ejercicio en concreto\, o tráete directamente tus ejercicios y consulta todas tus dudas. \n\nPuedes apuntarte aquí: https://forms.gle/TVAE432MGfNBLJUa9
URL:https://cloud9academy.es/event/ib-chemistry-hl-%c2%b7-redox-electrochemistry/
LOCATION:Cloud 9 Academy\, C/ Navarrete 13\, Madrid\, Madrid\, 28050\, España
CATEGORIES:IB 2026 Chemistry SL/HL,IB 2026 Final Revision
ATTACH;FMTTYPE=image/jpeg:https://cloud9academy.es/wp-content/uploads/2026/04/descarga.jpg
END:VEVENT
BEGIN:VEVENT
DTSTART;TZID=UTC:20260509T120000
DTEND;TZID=UTC:20260509T140000
DTSTAMP:20260421T101438
CREATED:20260407T162110Z
LAST-MODIFIED:20260407T171244Z
UID:2628-1778328000-1778335200@cloud9academy.es
SUMMARY:IB Economics SL/HL · Externalities & Government Intervention
DESCRIPTION:Externalities & Government Intervention es uno de los temas más importantes del curso\, tanto para HL como para SL. Supone casi una cuarta parte de la syllabus y «cae» en el examen prácticamente todos los años. \nDurante esta clase trabajaremos los siguientes temas: \nReasons for market failure \n\nPositive and negative externalities\, with appropriate diagrams\nShort-term and long-term environmental concerns\, with reference to sustainable development\nLack of public goods\nUnderprovision of merit goods\nOverprovision of demerit goods\n\nPossible government responses \n\nLegislation\nDirect provision of merit and public goods\nTaxation\nSubsidies\nTradable permits\nExtension of property rights\nAdvertising to encourage or discourage consumption\nInternational cooperation among governments\n\nPara ello\, emplearemos preguntas oficiales de examen (Paper 1 & Paper 2)\, a través de las cuales practicaremos todos los tipos de habilidades\, haciendo hincapié en las más difíciles: usar el vocabulario económico adecuadamente —tanto en los ensayos de Paper 1 como en las preguntas breves de Paper 2—\, incorporar diagramas\, hacer referencia a ‘real word examples’ y desarrollar argumentos económicos con los que obtener la máxima puntuación. \nY si tienes dudas\, ¡tráetelas! Cuéntanoslo antes de la clase si deseas practicar algún ejercicio en concreto\, o tráete directamente tus ejercicios y consulta todas tus dudas. \n  \nPuedes apuntarte aquí: https://forms.gle/TVAE432MGfNBLJUa9
URL:https://cloud9academy.es/event/ib-economics-sl-hl-%c2%b7-demand-supply-externalities-government-intervention/
LOCATION:Cloud 9 Academy\, C/ Navarrete 13\, Madrid\, Madrid\, 28050\, España
CATEGORIES:IB 2026 Final Revision,IB Economics SL/HL
ATTACH;FMTTYPE=image/jpeg:https://cloud9academy.es/wp-content/uploads/2022/05/economics-scaled.jpg
END:VEVENT
BEGIN:VEVENT
DTSTART;TZID=UTC:20260509T160000
DTEND;TZID=UTC:20260509T180000
DTSTAMP:20260421T101438
CREATED:20260406T181848Z
LAST-MODIFIED:20260408T144143Z
UID:2471-1778342400-1778349600@cloud9academy.es
SUMMARY:IB Mathematics AA HL · Calculus II: Differential equations & Limits
DESCRIPTION:Dedicaremos esta clase a practicar ecuaciones diferenciales\, límites y series de McLaurin: \nDifferential Equations \n\nNumerical Solutions to Differential Equations\nAnalytical Solutions to Differential Equations\nModelling with Differential Equations\n\nMacLaurin Series \n\nMacLaurin Series\nMacLaurin Series from Differential Equations\n\nLimits & Continuity (including L’Hôpital’s Rule) \n\nLimits\nContinuity\nL’Hôpital Rule\n\n  \nComo en todas las clases de Maths AA HL\, dedicaremos parte de la sesión a trabajar las preguntas largas que aparecen en ‘Section B’\, la segunda parte de los exámenes (Paper 1 y Paper 2)\, que consiste en ejercicios más largos y difíciles. \n  \nY si tienes dudas\, ¡tráetelas! Cuéntanoslo antes de la clase si deseas practicar algún ejercicio en concreto\, o tráete directamente tus ejercicios y consulta todas tus dudas. \n  \nPuedes apuntarte aquí: https://forms.gle/hC1RDzLrH1mVvgNn8
URL:https://cloud9academy.es/event/ib-mathematics-aa-hl-%c2%b7-calculus-ii-differential-equations-limits/
LOCATION:Cloud 9 Academy\, C/ Navarrete 13\, Madrid\, Madrid\, 28050\, España
CATEGORIES:IB 2026 Final Revision,IB 2026 Mathematics AA HL / Matemáticas AE NS
ATTACH;FMTTYPE=image/jpeg:https://cloud9academy.es/wp-content/uploads/2022/05/mathematics.jpg
END:VEVENT
BEGIN:VEVENT
DTSTART;TZID=UTC:20260509T160000
DTEND;TZID=UTC:20260509T180000
DTSTAMP:20260421T101438
CREATED:20260407T150908Z
LAST-MODIFIED:20260407T222242Z
UID:2556-1778342400-1778349600@cloud9academy.es
SUMMARY:IB Mathematics AI SL · Calculus II (Integration)
DESCRIPTION:Calculus\, que incluye tanto Differentiation como Integration\, es la sección más difícil de la specification de Mathematics Applications & Interpretations SL. En la segunda sesión de Calculus de este programa\, cubrimos Integration de principio a fin\, incluyendo tanto las operaciones a realizar como las aplicaciones de Differentiation a problemas más complejos. \nDurante esta clase trabajaremos los siguientes temas: \nIntegration \n\nThe trapezoidal rule: approximating the area under a curve\nIntegrating powers of x\n\nApplications of Integration \n\nDefinite integrals\nThe area under a curve\n\nPara ello\, emplearemos preguntas oficiales de examen (Paper 1 & Paper 2)\, a través de las cuales practicaremos todos los tipos de habilidades\, haciendo hincapié en las más difíciles: realizar los cálculos\, utilizar gráficos\, aplicar las fórmulas\, manejar la calculadora y estructurar y presentar el ‘working out’ para obtener la máxima puntuación. \nY si tienes dudas\, ¡tráetelas! Cuéntanoslo antes de la clase si deseas practicar algún ejercicio en concreto\, o tráete directamente tus ejercicios y consulta todas tus dudas. \nPuedes apuntarte aquí: https://forms.gle/TVAE432MGfNBLJUa9
URL:https://cloud9academy.es/event/ib-mathematics-ai-sl-%c2%b7-calculus-ii-integration/
LOCATION:Cloud 9 Academy\, C/ Navarrete 13\, Madrid\, Madrid\, 28050\, España
CATEGORIES:IB 2026 Final Revision,IB 2026 Mathematics AI SL
ATTACH;FMTTYPE=image/jpeg:https://cloud9academy.es/wp-content/uploads/2022/05/mathematics.jpg
END:VEVENT
BEGIN:VEVENT
DTSTART;TZID=UTC:20260509T180000
DTEND;TZID=UTC:20260509T200000
DTSTAMP:20260421T101438
CREATED:20260406T183717Z
LAST-MODIFIED:20260407T160405Z
UID:2495-1778349600-1778356800@cloud9academy.es
SUMMARY:IB Mathematics AA SL · Complete Statistics & Probability
DESCRIPTION:Statistics & Probability es una parte esencial de IB Mathematics Analysis & Approaches (SL)\, con una presencia constante en los exámenes y una gran variedad de tipos de preguntas. \nDurante esta clase trabajaremos los siguientes temas: \nStatistics \nCorrelation & Regression \nProbability \n\nProbability & Types of Events\nIndependent & Mutually Exclusive Events\nConditional Probability\nVenn Diagrams\nTree Diagrams\n\nProbability Distributions \n\nDiscrete Probability Distributions\nExpected Values\n\nBinomial Distribution \n\nThe Binomial Distribution\nCalculating Binomial Probabilities\n\nNormal Distribution \n\nThe Normal Distribution\nCalculations with Normal Distribution\nStandardisation of Normal Variables & z-Values\nFinding Unknown Parameters\n\nPara ello\, emplearemos preguntas oficiales de examen (Paper 1 & Paper 2)\, trabajando especialmente la interpretación de datos\, el uso correcto de fórmulas y el manejo eficiente de la calculadora. \nY si tienes dudas\, ¡tráetelas! Cuéntanoslo antes de la clase si deseas practicar algún ejercicio en concreto\, o tráete directamente tus ejercicios y consulta todas tus dudas. \nPuedes apuntarte aquí: https://forms.gle/TVAE432MGfNBLJUa9
URL:https://cloud9academy.es/event/ib-mathematics-aa-sl-%c2%b7-complete-statistics-probability/
LOCATION:Cloud 9 Academy\, C/ Navarrete 13\, Madrid\, Madrid\, 28050\, España
CATEGORIES:IB 2026 Final Revision,Ib 2026 Mathematics AA SL / Matemáticas AE NM
ATTACH;FMTTYPE=image/jpeg:https://cloud9academy.es/wp-content/uploads/2022/05/mathematics.jpg
END:VEVENT
END:VCALENDAR